Package: BLMA Version: 1.35.0 Command: /home/biocbuild/bbs-3.23-bioc/R/bin/R CMD build --keep-empty-dirs --no-resave-data BLMA StartedAt: 2025-10-31 16:47:49 -0400 (Fri, 31 Oct 2025) EndedAt: 2025-10-31 16:51:53 -0400 (Fri, 31 Oct 2025) EllapsedTime: 244.2 seconds RetCode: 0 Status: OK PackageFile: BLMA_1.35.0.tar.gz PackageFileSize: 2.826 MiB