Package: BG2 Version: 1.11.0 Command: /home/biocbuild/bbs-3.23-bioc/R/bin/R CMD build --keep-empty-dirs --no-resave-data BG2 StartedAt: 2025-11-20 16:25:13 -0500 (Thu, 20 Nov 2025) EndedAt: 2025-11-20 16:34:39 -0500 (Thu, 20 Nov 2025) EllapsedTime: 566.5 seconds RetCode: 0 Status: OK PackageFile: BG2_1.11.0.tar.gz PackageFileSize: 1.131 MiB