Package: BEclear Version: 2.27.0 Command: /home/biocbuild/bbs-3.23-bioc/R/bin/R CMD INSTALL BEclear StartedAt: 2025-11-20 15:04:37 -0500 (Thu, 20 Nov 2025) EndedAt: 2025-11-20 15:04:52 -0500 (Thu, 20 Nov 2025) EllapsedTime: 14.6 seconds RetCode: 0 Status: OK