Package: BEclear Version: 2.27.0 Command: /home/biocbuild/bbs-3.23-bioc/R/bin/R CMD build --keep-empty-dirs --no-resave-data BEclear StartedAt: 2025-11-20 16:23:56 -0500 (Thu, 20 Nov 2025) EndedAt: 2025-11-20 16:24:19 -0500 (Thu, 20 Nov 2025) EllapsedTime: 23.0 seconds RetCode: 0 Status: OK PackageFile: BEclear_2.27.0.tar.gz PackageFileSize: 721.6 KiB