Package: BERT Version: 1.5.0 Command: /Library/Frameworks/R.framework/Resources/bin/R CMD INSTALL BERT StartedAt: 2025-10-14 15:28:20 -0400 (Tue, 14 Oct 2025) EndedAt: 2025-10-14 15:28:24 -0400 (Tue, 14 Oct 2025) EllapsedTime: 4.1 seconds RetCode: 0 Status: OK