Package: BERT Version: 1.5.0 Command: rm -rf BERT.buildbin-libdir && mkdir BERT.buildbin-libdir && /Users/biocbuild/BBS/utils/build-universal.sh BERT_1.5.0.tar.gz /Library/Frameworks/R.framework/Resources/bin/R BERT.buildbin-libdir StartedAt: 2025-10-15 02:33:10 -0400 (Wed, 15 Oct 2025) EndedAt: 2025-10-15 02:33:16 -0400 (Wed, 15 Oct 2025) EllapsedTime: 5.8 seconds RetCode: 0 Status: OK PackageFile: BERT_1.5.0.tgz PackageFileSize: 322.8 KiB