Package: BERT Version: 1.5.0 Command: /Library/Frameworks/R.framework/Resources/bin/R CMD INSTALL BERT StartedAt: 2025-10-07 15:11:47 -0400 (Tue, 07 Oct 2025) EndedAt: 2025-10-07 15:11:48 -0400 (Tue, 07 Oct 2025) EllapsedTime: 1.0 seconds RetCode: 0 Status: OK