Package: BERT Version: 1.5.0 Command: /Library/Frameworks/R.framework/Resources/bin/R CMD build --keep-empty-dirs --no-resave-data BERT StartedAt: 2025-10-07 15:43:37 -0400 (Tue, 07 Oct 2025) EndedAt: 2025-10-07 15:43:49 -0400 (Tue, 07 Oct 2025) EllapsedTime: 11.1 seconds RetCode: 0 Status: OK PackageFile: BERT_1.5.0.tar.gz PackageFileSize: 258.2 KiB