Package: BERT Version: 1.5.0 Command: rm -rf BERT.buildbin-libdir && mkdir BERT.buildbin-libdir && /Users/biocbuild/BBS/utils/build-universal.sh BERT_1.5.0.tar.gz /Library/Frameworks/R.framework/Resources/bin/R BERT.buildbin-libdir StartedAt: 2025-10-06 22:36:22 -0400 (Mon, 06 Oct 2025) EndedAt: 2025-10-06 22:36:24 -0400 (Mon, 06 Oct 2025) EllapsedTime: 2.0 seconds RetCode: 0 Status: OK PackageFile: BERT_1.5.0.tgz PackageFileSize: 324.5 KiB