Package: BERT Version: 1.7.0 Maintainer: Yannis Schumann MaintainerEmail: yannis.schumann at desy.de git_url: https://git.bioconductor.org/packages/BERT git_branch: devel git_last_commit: 2e49878 git_last_commit_date: 2025-10-29 11:26:54 -0500 (Wed, 29 Oct 2025)