Package: BEAT Version: 1.49.0 Command: /home/biocbuild/bbs-3.23-bioc/R/bin/R CMD build --keep-empty-dirs --no-resave-data BEAT StartedAt: 2025-11-04 16:22:06 -0500 (Tue, 04 Nov 2025) EndedAt: 2025-11-04 16:23:26 -0500 (Tue, 04 Nov 2025) EllapsedTime: 80.0 seconds RetCode: 0 Status: OK PackageFile: BEAT_1.49.0.tar.gz PackageFileSize: 3.292 MiB