Package: BEAT Version: 1.47.0 Command: /Library/Frameworks/R.framework/Resources/bin/R CMD build --keep-empty-dirs --no-resave-data BEAT StartedAt: 2025-10-24 16:14:31 -0400 (Fri, 24 Oct 2025) EndedAt: 2025-10-24 16:16:12 -0400 (Fri, 24 Oct 2025) EllapsedTime: 100.7 seconds RetCode: 0 Status: OK PackageFile: BEAT_1.47.0.tar.gz PackageFileSize: 3.29 MiB