Package: BEAT Version: 1.49.0 Maintainer: Kemal Akman MaintainerEmail: akman at mpipz.mpg.de git_url: https://git.bioconductor.org/packages/BEAT git_branch: devel git_last_commit: 3a301bb git_last_commit_date: 2025-10-29 10:17:47 -0400 (Wed, 29 Oct 2025)