Package: BCRANK Version: 1.73.0 Command: /home/biocbuild/bbs-3.23-bioc/R/bin/R CMD INSTALL BCRANK StartedAt: 2025-11-20 15:33:21 -0500 (Thu, 20 Nov 2025) EndedAt: 2025-11-20 15:33:32 -0500 (Thu, 20 Nov 2025) EllapsedTime: 10.3 seconds RetCode: 0 Status: OK