Package: BCRANK Version: 1.73.0 Command: /home/biocbuild/bbs-3.23-bioc/R/bin/R CMD build --keep-empty-dirs --no-resave-data BCRANK StartedAt: 2025-11-21 16:22:50 -0500 (Fri, 21 Nov 2025) EndedAt: 2025-11-21 16:23:10 -0500 (Fri, 21 Nov 2025) EllapsedTime: 20.0 seconds RetCode: 0 Status: OK PackageFile: BCRANK_1.73.0.tar.gz PackageFileSize: 2.903 MiB