Package: BCRANK Version: 1.73.0 Command: /Library/Frameworks/R.framework/Resources/bin/R CMD build --keep-empty-dirs --no-resave-data BCRANK StartedAt: 2025-11-21 16:10:15 -0500 (Fri, 21 Nov 2025) EndedAt: 2025-11-21 16:10:47 -0500 (Fri, 21 Nov 2025) EllapsedTime: 32.0 seconds RetCode: 0 Status: OK PackageFile: BCRANK_1.73.0.tar.gz PackageFileSize: 2.902 MiB