Package: BCRANK Version: 1.73.0 Command: /Library/Frameworks/R.framework/Resources/bin/R CMD INSTALL BCRANK StartedAt: 2025-11-20 15:08:53 -0500 (Thu, 20 Nov 2025) EndedAt: 2025-11-20 15:08:59 -0500 (Thu, 20 Nov 2025) EllapsedTime: 5.2 seconds RetCode: 0 Status: OK