Package: BCRANK Version: 1.73.0 Command: /Library/Frameworks/R.framework/Resources/bin/R CMD build --keep-empty-dirs --no-resave-data BCRANK StartedAt: 2025-11-20 15:43:11 -0500 (Thu, 20 Nov 2025) EndedAt: 2025-11-20 15:43:22 -0500 (Thu, 20 Nov 2025) EllapsedTime: 11.1 seconds RetCode: 0 Status: OK PackageFile: BCRANK_1.73.0.tar.gz PackageFileSize: 2.903 MiB