Package: BBCAnalyzer Version: 1.39.0 Command: /home/biocbuild/R/R/bin/R CMD INSTALL BBCAnalyzer StartedAt: 2025-09-29 21:21:33 -0000 (Mon, 29 Sep 2025) EndedAt: 2025-09-29 21:22:29 -0000 (Mon, 29 Sep 2025) EllapsedTime: 56.3 seconds RetCode: 0 Status: OK