Package: BBCAnalyzer Version: 1.39.0 Command: /home/biocbuild/R/R/bin/R CMD build --keep-empty-dirs --no-resave-data BBCAnalyzer StartedAt: 2025-09-29 22:15:53 -0000 (Mon, 29 Sep 2025) EndedAt: 2025-09-29 22:25:45 -0000 (Mon, 29 Sep 2025) EllapsedTime: 592.1 seconds RetCode: 0 Status: OK PackageFile: BBCAnalyzer_1.39.0.tar.gz PackageFileSize: 2.194 MiB