Package: BBCAnalyzer Version: 1.41.0 Command: /home/biocbuild/bbs-3.23-bioc/R/bin/R CMD INSTALL BBCAnalyzer StartedAt: 2025-11-04 15:40:24 -0500 (Tue, 04 Nov 2025) EndedAt: 2025-11-04 15:41:09 -0500 (Tue, 04 Nov 2025) EllapsedTime: 45.3 seconds RetCode: 0 Status: OK