Package: BBCAnalyzer Version: 1.41.0 Command: /home/biocbuild/bbs-3.23-bioc/R/bin/R CMD check --install=check:BBCAnalyzer.install-out.txt --library=/home/biocbuild/bbs-3.23-bioc/R/site-library --timings BBCAnalyzer_1.41.0.tar.gz StartedAt: 2025-11-06 21:09:49 -0500 (Thu, 06 Nov 2025) EndedAt: 2025-11-06 21:20:27 -0500 (Thu, 06 Nov 2025) EllapsedTime: 638.0 seconds RetCode: 0 Status: OK CheckDir: BBCAnalyzer.Rcheck Warnings: 0