Package: BBCAnalyzer Version: 1.41.0 Command: /home/biocbuild/bbs-3.23-bioc/R/bin/R CMD build --keep-empty-dirs --no-resave-data BBCAnalyzer StartedAt: 2025-11-04 16:20:32 -0500 (Tue, 04 Nov 2025) EndedAt: 2025-11-04 16:27:03 -0500 (Tue, 04 Nov 2025) EllapsedTime: 390.3 seconds RetCode: 0 Status: OK PackageFile: BBCAnalyzer_1.41.0.tar.gz PackageFileSize: 2.202 MiB