Package: BASiCStan Version: 1.11.0 Command: /home/biocbuild/R/R/bin/R CMD INSTALL BASiCStan StartedAt: 2025-10-23 21:21:08 -0000 (Thu, 23 Oct 2025) EndedAt: 2025-10-23 21:27:51 -0000 (Thu, 23 Oct 2025) EllapsedTime: 402.6 seconds RetCode: 0 Status: OK