Package: BASiCStan Version: 1.11.0 Command: /home/biocbuild/R/R/bin/R CMD build --keep-empty-dirs --no-resave-data BASiCStan StartedAt: 2025-10-20 21:55:17 -0000 (Mon, 20 Oct 2025) EndedAt: 2025-10-20 22:02:08 -0000 (Mon, 20 Oct 2025) EllapsedTime: 411.1 seconds RetCode: 0 Status: OK PackageFile: BASiCStan_1.11.0.tar.gz PackageFileSize: 47.4 KiB