Package: BASiCStan Version: 1.13.0 Command: /home/biocbuild/bbs-3.23-bioc/R/bin/R CMD INSTALL BASiCStan StartedAt: 2025-11-05 16:01:48 -0500 (Wed, 05 Nov 2025) EndedAt: 2025-11-05 16:06:26 -0500 (Wed, 05 Nov 2025) EllapsedTime: 278.2 seconds RetCode: 0 Status: OK