Package: BASiCStan Version: 1.13.0 Command: /home/biocbuild/bbs-3.23-bioc/R/bin/R CMD build --keep-empty-dirs --no-resave-data BASiCStan StartedAt: 2025-11-05 16:25:24 -0500 (Wed, 05 Nov 2025) EndedAt: 2025-11-05 16:30:20 -0500 (Wed, 05 Nov 2025) EllapsedTime: 295.2 seconds RetCode: 0 Status: OK PackageFile: BASiCStan_1.13.0.tar.gz PackageFileSize: 64.56 KiB