Package: BASiCS Version: 2.21.1 Command: /home/biocbuild/R/R/bin/R CMD INSTALL BASiCS StartedAt: 2025-10-02 21:24:41 -0000 (Thu, 02 Oct 2025) EndedAt: 2025-10-02 21:26:26 -0000 (Thu, 02 Oct 2025) EllapsedTime: 105.0 seconds RetCode: 0 Status: OK