Package: BASiCS Version: 2.21.1 Command: /home/biocbuild/R/R/bin/R CMD build --keep-empty-dirs --no-resave-data BASiCS StartedAt: 2025-10-02 22:01:10 -0000 (Thu, 02 Oct 2025) EndedAt: 2025-10-02 22:03:46 -0000 (Thu, 02 Oct 2025) EllapsedTime: 156.0 seconds RetCode: 0 Status: OK PackageFile: BASiCS_2.21.1.tar.gz PackageFileSize: 3.032 MiB