Package: BASiCS Version: 2.21.0 Command: chmod a+r BASiCS -R && F:\biocbuild\bbs-3.22-bioc\R\bin\R.exe CMD build --keep-empty-dirs --no-resave-data BASiCS StartedAt: 2025-08-14 18:33:36 -0400 (Thu, 14 Aug 2025) EndedAt: 2025-08-14 18:36:06 -0400 (Thu, 14 Aug 2025) EllapsedTime: 150.8 seconds RetCode: 0 Status: OK PackageFile: BASiCS_2.21.0.tar.gz PackageFileSize: 2.958 MiB