Package: BASiCS Version: 2.23.0 Command: /home/biocbuild/bbs-3.23-bioc/R/bin/R CMD INSTALL BASiCS StartedAt: 2025-11-05 16:00:35 -0500 (Wed, 05 Nov 2025) EndedAt: 2025-11-05 16:01:48 -0500 (Wed, 05 Nov 2025) EllapsedTime: 72.8 seconds RetCode: 0 Status: OK