Package: BASiCS Version: 2.23.0 Command: /home/biocbuild/bbs-3.23-bioc/R/bin/R CMD check --install=check:BASiCS.install-out.txt --library=/home/biocbuild/bbs-3.23-bioc/R/site-library --timings BASiCS_2.23.0.tar.gz StartedAt: 2025-11-05 21:13:45 -0500 (Wed, 05 Nov 2025) EndedAt: 2025-11-05 21:23:59 -0500 (Wed, 05 Nov 2025) EllapsedTime: 614.8 seconds RetCode: 0 Status: WARNINGS CheckDir: BASiCS.Rcheck Warnings: 1