Package: BANDITS Version: 1.26.0 Command: /Library/Frameworks/R.framework/Resources/bin/R CMD build --keep-empty-dirs --no-resave-data BANDITS StartedAt: 2025-10-29 22:46:49 -0400 (Wed, 29 Oct 2025) EndedAt: 2025-10-29 22:49:34 -0400 (Wed, 29 Oct 2025) EllapsedTime: 164.9 seconds RetCode: 0 Status: OK PackageFile: BANDITS_1.26.0.tar.gz PackageFileSize: 1.22 MiB