Package: BANDITS Version: 1.25.1 Command: /Library/Frameworks/R.framework/Resources/bin/R CMD INSTALL BANDITS StartedAt: 2025-10-16 15:31:00 -0400 (Thu, 16 Oct 2025) EndedAt: 2025-10-16 15:31:17 -0400 (Thu, 16 Oct 2025) EllapsedTime: 17.2 seconds RetCode: 0 Status: OK