Package: BAGS Version: 2.49.0 Command: /Library/Frameworks/R.framework/Resources/bin/R CMD build --keep-empty-dirs --no-resave-data BAGS StartedAt: 2025-10-20 16:04:20 -0400 (Mon, 20 Oct 2025) EndedAt: 2025-10-20 16:05:00 -0400 (Mon, 20 Oct 2025) EllapsedTime: 39.0 seconds RetCode: 0 Status: OK PackageFile: BAGS_2.49.0.tar.gz PackageFileSize: 273.2 KiB