Package: BAGS Version: 2.49.0 Command: /Library/Frameworks/R.framework/Resources/bin/R CMD INSTALL BAGS StartedAt: 2025-10-03 15:06:46 -0400 (Fri, 03 Oct 2025) EndedAt: 2025-10-03 15:06:48 -0400 (Fri, 03 Oct 2025) EllapsedTime: 2.1 seconds RetCode: 0 Status: OK