Package: BAGS Version: 2.49.0 Command: rm -rf BAGS.buildbin-libdir && mkdir BAGS.buildbin-libdir && /Users/biocbuild/BBS/utils/build-universal.sh BAGS_2.49.0.tar.gz /Library/Frameworks/R.framework/Resources/bin/R BAGS.buildbin-libdir StartedAt: 2025-10-03 22:31:03 -0400 (Fri, 03 Oct 2025) EndedAt: 2025-10-03 22:31:06 -0400 (Fri, 03 Oct 2025) EllapsedTime: 3.0 seconds RetCode: 0 Status: OK PackageFile: BAGS_2.49.0.tgz PackageFileSize: 316.2 KiB