Package: BAGS Version: 2.51.0 Maintainer: Alejandro Quiroz-Zarate MaintainerEmail: aquiroz at jimmy.harvard.edu git_url: https://git.bioconductor.org/packages/BAGS git_branch: devel git_last_commit: 7085f81 git_last_commit_date: 2025-10-29 10:10:06 -0400 (Wed, 29 Oct 2025)