Package: BADER Version: 1.49.0 Command: /home/biocbuild/bbs-3.23-bioc/R/bin/R CMD INSTALL BADER StartedAt: 2025-11-07 15:05:56 -0500 (Fri, 07 Nov 2025) EndedAt: 2025-11-07 15:06:08 -0500 (Fri, 07 Nov 2025) EllapsedTime: 12.6 seconds RetCode: 0 Status: OK