Package: BADER Version: 1.47.0 Command: /Library/Frameworks/R.framework/Resources/bin/R CMD INSTALL BADER StartedAt: 2025-10-20 15:07:35 -0400 (Mon, 20 Oct 2025) EndedAt: 2025-10-20 15:08:31 -0400 (Mon, 20 Oct 2025) EllapsedTime: 55.1 seconds RetCode: 0 Status: OK