Package: BADER Version: 1.47.0 Command: /Library/Frameworks/R.framework/Resources/bin/R CMD build --keep-empty-dirs --no-resave-data BADER StartedAt: 2025-10-20 16:03:58 -0400 (Mon, 20 Oct 2025) EndedAt: 2025-10-20 16:04:27 -0400 (Mon, 20 Oct 2025) EllapsedTime: 29.9 seconds RetCode: 0 Status: OK PackageFile: BADER_1.47.0.tar.gz PackageFileSize: 238.1 KiB