Package: BADER Version: 1.49.0 Maintainer: Andreas Neudecker MaintainerEmail: a.neudecker at arcor.de git_url: https://git.bioconductor.org/packages/BADER git_branch: devel git_last_commit: f0f8d03 git_last_commit_date: 2025-10-29 10:16:18 -0400 (Wed, 29 Oct 2025)