Package: ArrayExpress Version: 1.71.0 Command: /home/biocbuild/bbs-3.23-bioc/R/bin/R CMD INSTALL ArrayExpress StartedAt: 2025-11-03 15:20:35 -0500 (Mon, 03 Nov 2025) EndedAt: 2025-11-03 15:21:01 -0500 (Mon, 03 Nov 2025) EllapsedTime: 26.1 seconds RetCode: 0 Status: OK