Package: ArrayExpress Version: 1.71.0 Command: /home/biocbuild/bbs-3.23-bioc/R/bin/R CMD check --install=check:ArrayExpress.install-out.txt --library=/home/biocbuild/bbs-3.23-bioc/R/site-library --timings ArrayExpress_1.71.0.tar.gz StartedAt: 2025-11-04 20:57:34 -0500 (Tue, 04 Nov 2025) EndedAt: 2025-11-04 21:04:53 -0500 (Tue, 04 Nov 2025) EllapsedTime: 439.7 seconds RetCode: 0 Status: OK CheckDir: ArrayExpress.Rcheck Warnings: 0