Package: AnnotationHubData Version: 1.41.0 Command: /home/biocbuild/bbs-3.23-bioc/R/bin/R CMD INSTALL AnnotationHubData StartedAt: 2025-11-04 15:39:09 -0500 (Tue, 04 Nov 2025) EndedAt: 2025-11-04 15:39:52 -0500 (Tue, 04 Nov 2025) EllapsedTime: 43.1 seconds RetCode: 0 Status: OK