Package: AnnotationHubData Version: 1.41.0 Command: /home/biocbuild/bbs-3.23-bioc/R/bin/R CMD check --install=check:AnnotationHubData.install-out.txt --library=/home/biocbuild/bbs-3.23-bioc/R/site-library --timings AnnotationHubData_1.41.0.tar.gz StartedAt: 2025-11-04 20:55:36 -0500 (Tue, 04 Nov 2025) EndedAt: 2025-11-04 21:04:17 -0500 (Tue, 04 Nov 2025) EllapsedTime: 521.8 seconds RetCode: 0 Status: WARNINGS CheckDir: AnnotationHubData.Rcheck Warnings: 1