Package: AnnotationHubData Version: 1.41.0 Command: /home/biocbuild/bbs-3.23-bioc/R/bin/R CMD build --keep-empty-dirs --no-resave-data AnnotationHubData StartedAt: 2025-11-04 16:10:34 -0500 (Tue, 04 Nov 2025) EndedAt: 2025-11-04 16:11:19 -0500 (Tue, 04 Nov 2025) EllapsedTime: 45.1 seconds RetCode: 0 Status: OK PackageFile: AnnotationHubData_1.41.0.tar.gz PackageFileSize: 400.3 KiB