Package: AnnotationHubData Version: 1.39.2 Command: /Library/Frameworks/R.framework/Resources/bin/R CMD check --install=check:AnnotationHubData.install-out.txt --library=/Library/Frameworks/R.framework/Resources/library --no-vignettes --timings AnnotationHubData_1.39.2.tar.gz StartedAt: 2025-10-15 18:16:41 -0400 (Wed, 15 Oct 2025) EndedAt: 2025-10-15 18:21:15 -0400 (Wed, 15 Oct 2025) EllapsedTime: 274.4 seconds RetCode: 0 Status: WARNINGS CheckDir: AnnotationHubData.Rcheck Warnings: 1