Package: AnnotationHub Version: 3.99.6 Command: /Library/Frameworks/R.framework/Resources/bin/R CMD INSTALL AnnotationHub StartedAt: 2025-10-12 15:25:54 -0400 (Sun, 12 Oct 2025) EndedAt: 2025-10-12 15:26:20 -0400 (Sun, 12 Oct 2025) EllapsedTime: 25.8 seconds RetCode: 0 Status: OK