Package: AnnotationHub Version: 3.99.6 Command: /Library/Frameworks/R.framework/Resources/bin/R CMD build --keep-empty-dirs --no-resave-data AnnotationHub StartedAt: 2025-10-12 16:00:25 -0400 (Sun, 12 Oct 2025) EndedAt: 2025-10-12 16:03:07 -0400 (Sun, 12 Oct 2025) EllapsedTime: 161.4 seconds RetCode: 0 Status: OK PackageFile: AnnotationHub_3.99.6.tar.gz PackageFileSize: 978.1 KiB